BEGIN:VCALENDAR
VERSION:2.0
METHOD:PUBLISH
BEGIN:VEVENT
UID:WILD_APRICOT_EVENT_637315_SESSION_1
DTSTART:20130720T110000Z
DTEND:20130720T110000Z
SUMMARY:Club Dinner in July - Jennacubbine
LOCATION:Jennacubine\, Western Australia
DESCRIPTION:https://www.bmwmccwa.asn.au/event-637315\n\nThe 2013 Annual Dinner will be held at Jennacubbine Tavern.\n \n The club has booked the local hall for those members who would like to roll out a sleeping bag and stay the night. Alternatively you can arrange your own accommodation or stay at the tavern.\n \n The following Sunday morning the club will put on a BBQ breakfast to get you fueled up for the ride home at your leisure.\n     \n   This year we wont be asking for payment in advance\, you just order and pay at the tavern on the night. However there will be a form of club subsidy for current members (Hall accommodation and breakfast free!)\, more details including links to the menu etc will be posted here over the next few days so keep checking.\n   \n   Topic on Club Forum\n   \n   Map link Below\n   Jennacubbine\n 
DTSTAMP:20260424T172245Z
END:VEVENT
END:VCALENDAR
