BEGIN:VCALENDAR
VERSION:2.0
METHOD:PUBLISH
BEGIN:VEVENT
UID:WILD_APRICOT_EVENT_507310_SESSION_1
DTSTART:20120905T102000Z
DTEND:20120905T141500Z
SUMMARY:Kart World Fund Raiser for RFDS
LOCATION:Kart World - 8 Cowcher Place Belmont
DESCRIPTION:https://www.bmwmccwa.asn.au/event-507310\n\nWe are going racing!\n \n Kart World are hosting an exclusive night for club members to enjoy a Monaco style Grand Prix\, organized races\, team rivalry the lot!\n \n We would like you to come along have a great time and support a good cause\, the proceeds will be going to the Royal Flying Doctor Service.\n \n That's right Kart World are generously donating their services and the proceeds will go to the "New Aircraft Fund" of the RFDS.\n \n \n \n Your family and friends are welcome to join in\, racing is not restricted to current club members so invite a mate! or bring your kids (12 and over)\n \n You will need to register and pay ahead of the event to secure your place. For this you get suit hire (optional\, you can wear your own bike gear too)\, snacks\, soft drinks and of course you get to race your mates!\n \n Come on its a great cause the RFDS has helped out many of our members the latest of whom is in fact our current club president!. Help us say Thanks!\n\n     Don't wait register now!\n   places are limited so that your track time is not!\n   non members welcome\n \n \n \n
DTSTAMP:20260424T170125Z
END:VEVENT
END:VCALENDAR
