BEGIN:VCALENDAR
VERSION:2.0
METHOD:PUBLISH
BEGIN:VEVENT
UID:WILD_APRICOT_EVENT_3250892_SESSION_1
DTSTART:20190801T160000Z
DTEND:20190805T160000Z
SUMMARY:Border Run
LOCATION:Border Village (WA)
DESCRIPTION:https://www.bmwmccwa.asn.au/event-3250892\n\nAnnual Border Run\, where riders from far and wide converge on Border Village (WA) for dinner on the first Saturday of August each year.\n  This year has a special meaning for several of our long standing members and will be an event to remember\, if you have not made the pilgrimage before - this may be the year to put aside a couple of days to make the journey.\n  Typical black top ride heads out around 6am Friday the 2nd from Midvale\, ride ~900km to Ninety Mile Straight\, Campout\, arise Saturday morning and ride ~500km to the Border. Sunday morning commence the return trip\, usually stopping Coolgardie or Southern Cross overnight before slipping into metro in Monday morning.\n  If you are interested in making the journey\, register here to get updates.\n  Refer to a separate Event for Cookies Desert Raid via the Border ride...\n  \n\n
DTSTAMP:20260424T181357Z
END:VEVENT
END:VCALENDAR
