BEGIN:VCALENDAR
VERSION:2.0
METHOD:PUBLISH
BEGIN:VEVENT
UID:WILD_APRICOT_EVENT_3250882_SESSION_1
DTSTART:20190413T160000Z
DTEND:20190414T160000Z
SUMMARY:York Motorcycle Festival
LOCATION:York WA
DESCRIPTION:https://www.bmwmccwa.asn.au/event-3250882\n\nYork Motorcycle Festival\n
DTSTAMP:20260424T165254Z
END:VEVENT
END:VCALENDAR
