BEGIN:VCALENDAR
VERSION:2.0
METHOD:PUBLISH
BEGIN:VEVENT
UID:WILD_APRICOT_EVENT_3250880_SESSION_1
DTSTART:20190315T160000Z
DTEND:20190317T160000Z
SUMMARY:Mount Marshall Show (Bencubbin)
LOCATION:Bencubbin WA
DESCRIPTION:https://www.bmwmccwa.asn.au/event-3250880\n\nMount Marshall Annual Show\, located in Bencubbin.\n  Register your interest for an overnight camp out\, at the show grounds\, toilets\, showers and food stalls onsite on the Saturday afternoon & evening\, with a fireworks show to close out a great event.\n  In previous years there has been dirt and black top ride options - if you are interested in leading a ride\, let me know and we can add the details here.\n  We have members in the area and it is an easy way for metro riders to have a great weekend out in the countryside\, and support the local farming community at the same time.\n  Breakfast at the local Restaurant\, before making your way home on Sunday.\n
DTSTAMP:20260424T163937Z
END:VEVENT
END:VCALENDAR
