BEGIN:VCALENDAR
VERSION:2.0
METHOD:PUBLISH
BEGIN:VEVENT
UID:WILD_APRICOT_EVENT_3125117_SESSION_1
DTSTART:20191209T103000Z
DTEND:20191209T130000Z
SUMMARY:BMWMCCWA Social get together
LOCATION:Alfreds Kitchen\, Guildford
DESCRIPTION:https://www.bmwmccwa.asn.au/event-3125117\n\nSocial get together at Alfreds kitchen\, Guildford road\, Guildford\, bring your partner or a friend for a meal or enjoy a drink with fellow motorcycle enthusiasts\, in the relaxed setting.\n\n
DTSTAMP:20260424T165310Z
END:VEVENT
END:VCALENDAR
