BEGIN:VCALENDAR
VERSION:2.0
METHOD:PUBLISH
BEGIN:VEVENT
UID:WILD_APRICOT_EVENT_3125115_SESSION_1
DTSTART:20191014T103000Z
DTEND:20191014T130000Z
SUMMARY:BMWMCCWA Social get together
LOCATION:Victoria Park Hotel
DESCRIPTION:https://www.bmwmccwa.asn.au/event-3125115\n\nSocial get together\, bring your partner or a friend for a meal or enjoy a drink with fellow motorcycle enthusiasts\, in the dining room.\n\n
DTSTAMP:20260424T163927Z
END:VEVENT
END:VCALENDAR
