BEGIN:VCALENDAR
VERSION:2.0
METHOD:PUBLISH
BEGIN:VEVENT
UID:WILD_APRICOT_EVENT_3125111_SESSION_1
DTSTART:20190610T103000Z
DTEND:20190610T130000Z
SUMMARY:BMWMCCWA Social get together
LOCATION:Victoria Park Hotel
DESCRIPTION:https://www.bmwmccwa.asn.au/event-3125111\n\nSocial get together\, bring your partner or a friend for a meal or enjoy a drink with fellow motorcycle enthusiasts\, in the dining room.\n
DTSTAMP:20260424T164029Z
END:VEVENT
END:VCALENDAR
