BEGIN:VCALENDAR
VERSION:2.0
METHOD:PUBLISH
BEGIN:VEVENT
UID:WILD_APRICOT_EVENT_3125094_SESSION_1
DTSTART:20190708T113000Z
DTEND:20190708T130000Z
SUMMARY:BMWMCCWA Annual General meeting
LOCATION:Victoria Park Hotel
DESCRIPTION:https://www.bmwmccwa.asn.au/event-3125094\n\nFormal BMW Annual General Club meeting\, 7.30pm for a drink and seated for 8pm meeting\, to manage club business and election of office bearers.\n\n
DTSTAMP:20260424T164054Z
END:VEVENT
END:VCALENDAR
