BEGIN:VCALENDAR
VERSION:2.0
METHOD:PUBLISH
BEGIN:VEVENT
UID:WILD_APRICOT_EVENT_3125092_SESSION_1
DTSTART:20190513T113000Z
DTEND:20190513T130000Z
SUMMARY:BMWMCCWA General meeting
LOCATION:Victoria Park Hotel
DESCRIPTION:https://www.bmwmccwa.asn.au/event-3125092\n\nFormal BMW Club meeting\, 7.30pm for a drink and seated for 8pm meeting\, to manage club business.\n\n
DTSTAMP:20260424T165330Z
END:VEVENT
END:VCALENDAR
