BEGIN:VCALENDAR
VERSION:2.0
METHOD:PUBLISH
BEGIN:VEVENT
UID:WILD_APRICOT_EVENT_3125085_SESSION_1
DTSTART:20190211T103000Z
DTEND:20190211T123000Z
SUMMARY:BMWMCCWA Social Meeting
LOCATION:Victoria Park Hotel
DESCRIPTION:https://www.bmwmccwa.asn.au/event-3125085\n\nCome down and enjoy a meal or drinks with fellow motorcycle enthusiasts in the Dining room.\n  Partners and friends welcome\n
DTSTAMP:20260424T185040Z
END:VEVENT
END:VCALENDAR
