BEGIN:VCALENDAR
VERSION:2.0
METHOD:PUBLISH
BEGIN:VEVENT
UID:WILD_APRICOT_EVENT_3125081_SESSION_1
DTSTART:20190311T113000Z
DTEND:20190311T130000Z
SUMMARY:BMW Motorcycle Club general meeting
LOCATION:Victoria Park Hotel
DESCRIPTION:https://www.bmwmccwa.asn.au/event-3125081\n\nFormal BMW Club meeting\, 7.30pm for a drink and seated for 8pm meeting\, to manage club business.\n\n
DTSTAMP:20260424T185030Z
END:VEVENT
END:VCALENDAR
