BEGIN:VCALENDAR
VERSION:2.0
METHOD:PUBLISH
BEGIN:VEVENT
UID:WILD_APRICOT_EVENT_3125075_SESSION_1
DTSTART:20190408T103000Z
DTEND:20190408T130000Z
SUMMARY:BMWMCCWA Social meeting
LOCATION:Vic Park Hotel
DESCRIPTION:https://www.bmwmccwa.asn.au/event-3125075\n\nBMW Club Social meeting\, 7.00pm for a meal or grab a drink and enjoy the fellowship in the restaurant\, downstairs behind the outdoor area.\n
DTSTAMP:20260424T165320Z
END:VEVENT
END:VCALENDAR
